BEGIN:VCALENDAR
VERSION:2.0
PRODID:-//ZContent.net//ZapCalLib 1.0//EN
CALSCALE:GREGORIAN
METHOD:PUBLISH
BEGIN:VEVENT
SUMMARY:Co-Elternschaft  | Fem*ily 2.0 - Forum für feministische Familienv
 isionen mit Hana Hilal
DTSTART:20201215T193000
DTEND:20201215T193000
UID:2021-12-02-05-49-17-0-@calendar.boell.de
DTSTAMP:20211202T044917
DESCRIPTION:▶ Siehe Veranstaltungsbeschreibung – Landesstiftung Nieders
 achsen (Leben & Umwelt)
END:VEVENT
END:VCALENDAR
