BEGIN:VCALENDAR
VERSION:2.0
PRODID:-//ZContent.net//ZapCalLib 1.0//EN
CALSCALE:GREGORIAN
METHOD:PUBLISH
BEGIN:VEVENT
SUMMARY:UND MORGEN DIE GANZE WELT | 
DTSTART:20201022T190000
DTEND:20201022T213000
UID:2021-12-02-04-13-33-0-@calendar.boell.de
DTSTAMP:20211202T031333
DESCRIPTION:â–¶ Siehe Veranstaltungsbeschreibung â€“ Berlin â€“ Heinrich-BÃ
 ¶ll-Stiftung - Bundesstiftung Berlin
END:VEVENT
END:VCALENDAR
