BEGIN:VCALENDAR
VERSION:2.0
PRODID:-//ZContent.net//ZapCalLib 1.0//EN
CALSCALE:GREGORIAN
METHOD:PUBLISH
BEGIN:VEVENT
SUMMARY:Online-Seminar: Meisterhaft senden (ausgebucht/Warteliste) | Über 
 die Kunst, situativ und adressatengerecht zu kommunizieren
DTSTART:20201027T090000
DTEND:20201110T113000
UID:2026-04-22-23-08-46-0-@calendar.boell.de
DTSTAMP:20260422T210846
DESCRIPTION:▶ Siehe Veranstaltungsbeschreibung – Landesstiftung Nordrhe
 in-Westfalen
END:VEVENT
END:VCALENDAR
