BEGIN:VCALENDAR
VERSION:2.0
PRODID:-//ZContent.net//ZapCalLib 1.0//EN
CALSCALE:GREGORIAN
METHOD:PUBLISH
BEGIN:VEVENT
SUMMARY:Feminist MagiX | Decolonial Inlets A trans-discursive event series
DTSTART:20201031T160000
DTEND:20201219T210000
UID:2026-04-23-08-39-07-0-@calendar.boell.de
DTSTAMP:20260423T063907
DESCRIPTION:▶ Siehe Veranstaltungsbeschreibung – 
END:VEVENT
END:VCALENDAR
