BEGIN:VCALENDAR
VERSION:2.0
PRODID:-//ZContent.net//ZapCalLib 1.0//EN
CALSCALE:GREGORIAN
METHOD:PUBLISH
BEGIN:VEVENT
SUMMARY:Was weiße Menschen in Asylinitiativen unbedingt wissen sollten - a
 ber vielleicht ungern hören wollen | Online-Workshop im Rahmen der Asylin
 ititiativenkonferenz
DTSTART:20201113T160000
DTEND:20201113T183000
UID:2026-04-23-00-47-55-0-@calendar.boell.de
DTSTAMP:20260422T224755
DESCRIPTION:▶ Online-Veranstaltung – Landesstiftung Sachsen (Weiterdenk
 en)
END:VEVENT
END:VCALENDAR
