BEGIN:VCALENDAR
VERSION:2.0
PRODID:-//ZContent.net//ZapCalLib 1.0//EN
CALSCALE:GREGORIAN
METHOD:PUBLISH
BEGIN:VEVENT
SUMMARY:Perspektivlos, entrechtet und nahezu vergessen – Geflüchtete an 
 den EU-Außengrenzen | Gespräch im Rahmen der Asylinitiativenkonferenz 20
 20
DTSTART:20201111T190100
DTEND:20201111T210000
UID:2026-04-22-21-27-05-0-@calendar.boell.de
DTSTAMP:20260422T192705
DESCRIPTION:▶ Online-Veranstaltung – Landesstiftung Sachsen (Weiterdenk
 en)
END:VEVENT
END:VCALENDAR
