BEGIN:VCALENDAR
VERSION:2.0
PRODID:-//ZContent.net//ZapCalLib 1.0//EN
CALSCALE:GREGORIAN
METHOD:PUBLISH
BEGIN:VEVENT
SUMMARY:Berlin Prepper | Lesung mit Johannes Groschupf
DTSTART:20201015T200000
DTEND:20201015T220000
UID:2021-12-02-04-35-40-0-@calendar.boell.de
DTSTAMP:20211202T033540
DESCRIPTION:▶ Siehe Veranstaltungsbeschreibung – Stuttgart – Heinrich
  Böll Stiftung Baden-Württemberg
END:VEVENT
END:VCALENDAR
