BEGIN:VCALENDAR
VERSION:2.0
PRODID:-//ZContent.net//ZapCalLib 1.0//EN
CALSCALE:GREGORIAN
METHOD:PUBLISH
BEGIN:VEVENT
SUMMARY:Online-Seminar: Mutig & Stark (ausgebucht/Warteliste) | Als Frau se
 lbstsicher kommunizieren
DTSTART:20201112T170000
DTEND:20201126T200000
UID:2021-12-02-05-49-16-0-@calendar.boell.de
DTSTAMP:20211202T044916
DESCRIPTION:▶ Siehe Veranstaltungsbeschreibung – Landesstiftung Nordrhe
 in-Westfalen
END:VEVENT
END:VCALENDAR
