BEGIN:VCALENDAR
VERSION:2.0
PRODID:-//ZContent.net//ZapCalLib 1.0//EN
CALSCALE:GREGORIAN
METHOD:PUBLISH
BEGIN:VEVENT
SUMMARY:Mittelmeermonologe
DTSTART:20201001T190000
DTEND:20201001T210000
UID:2026-04-23-02-30-46-0-@calendar.boell.de
DTSTAMP:20260423T003046
DESCRIPTION:▶ Siehe Veranstaltungsbeschreibung – Petra-Kelly-Stiftung
END:VEVENT
END:VCALENDAR
