BEGIN:VCALENDAR
VERSION:2.0
PRODID:-//ZContent.net//ZapCalLib 1.0//EN
CALSCALE:GREGORIAN
METHOD:PUBLISH
BEGIN:VEVENT
SUMMARY:Flammende Köpfe | Lecture Performance über rechten Online-Aktivis
 mus 
DTSTART:20201008T201500
DTEND:20201008T214500
UID:2021-12-02-04-23-43-0-@calendar.boell.de
DTSTAMP:20211202T032343
DESCRIPTION:▶ Siehe Veranstaltungsbeschreibung – Hamburg – Externe Ve
 ranstaltung
END:VEVENT
BEGIN:VEVENT
SUMMARY:Flammende Köpfe | Lecture Performance über rechten Online-Aktivis
 mus 
DTSTART:20201009T201500
DTEND:20201009T214500
UID:2021-12-02-03-23-43-1-@calendar.boell.de
DTSTAMP:20211202T032343
DESCRIPTION:▶ Siehe Veranstaltungsbeschreibung – Hamburg – Externe Ve
 ranstaltung
END:VEVENT
BEGIN:VEVENT
SUMMARY:Flammende Köpfe | Lecture Performance über rechten Online-Aktivis
 mus 
DTSTART:20201010T201500
DTEND:20201010T214500
UID:2021-12-02-03-23-43-2-@calendar.boell.de
DTSTAMP:20211202T032343
DESCRIPTION:▶ Siehe Veranstaltungsbeschreibung – Hamburg – Externe Ve
 ranstaltung
END:VEVENT
END:VCALENDAR
