BEGIN:VCALENDAR
VERSION:2.0
PRODID:-//ZContent.net//ZapCalLib 1.0//EN
CALSCALE:GREGORIAN
METHOD:PUBLISH
BEGIN:VEVENT
SUMMARY:NEU: Online-Veranstaltung: GenderData - Digitalisierung und Geschle
 cht in Zeiten von Corona | Hatespeech nicht nur in Zeiten von Corona
DTSTART:20201027T190000
DTEND:20201027T210000
UID:2021-12-02-05-49-24-0-@calendar.boell.de
DTSTAMP:20211202T044924
DESCRIPTION:▶ Siehe Veranstaltungsbeschreibung – Hamburg – Landesstif
 tung Hamburg
END:VEVENT
END:VCALENDAR
