BEGIN:VCALENDAR
VERSION:2.0
PRODID:-//ZContent.net//ZapCalLib 1.0//EN
CALSCALE:GREGORIAN
METHOD:PUBLISH
BEGIN:VEVENT
SUMMARY:Warum ich hier bin | Sondervorstellung für Kinder im Rahmen des Ca
 saKidsClub
DTSTART:20201017T133000
DTEND:20201017T150000
UID:2026-04-22-23-07-02-0-@calendar.boell.de
DTSTAMP:20260422T210702
DESCRIPTION:▶ Siehe Veranstaltungsbeschreibung – Nürnberg – Petra-Ke
 lly-Stiftung
END:VEVENT
END:VCALENDAR
