BEGIN:VCALENDAR
VERSION:2.0
PRODID:-//ZContent.net//ZapCalLib 1.0//EN
CALSCALE:GREGORIAN
METHOD:PUBLISH
BEGIN:VEVENT
SUMMARY:Neukölln für alle und gegen Rechts! Wie weiter im Kiez? | Diskuss
 ion über Rechtsextremismus und Verdrängung in Neukölln
DTSTART:20201027T180000
DTEND:20201027T213000
UID:2026-04-23-06-00-38-0-@calendar.boell.de
DTSTAMP:20260423T040038
DESCRIPTION:▶ Siehe Veranstaltungsbeschreibung – Landesstiftung Berlin 
 (Bildungswerk)
END:VEVENT
END:VCALENDAR
