BEGIN:VCALENDAR
VERSION:2.0
PRODID:-//ZContent.net//ZapCalLib 1.0//EN
CALSCALE:GREGORIAN
METHOD:PUBLISH
BEGIN:VEVENT
SUMMARY:Liefer-Wiebitte! | Neue Regeln zur Unternehmensverantwortung für M
 enschenrechte und Umwelt
DTSTART:20200929T193000
DTEND:20200929T213000
UID:2026-04-22-20-12-29-0-@calendar.boell.de
DTSTAMP:20260422T181229
DESCRIPTION:▶ Siehe Veranstaltungsbeschreibung – Köln – Landesstiftu
 ng Nordrhein-Westfalen
END:VEVENT
END:VCALENDAR
