BEGIN:VCALENDAR
VERSION:2.0
PRODID:-//ZContent.net//ZapCalLib 1.0//EN
CALSCALE:GREGORIAN
METHOD:PUBLISH
BEGIN:VEVENT
SUMMARY:Zeitdruck – Was nun? 
DTSTART:20201010T100000
DTEND:20201010T170000
UID:2026-04-22-20-09-53-0-@calendar.boell.de
DTSTAMP:20260422T180953
DESCRIPTION:Halle (Saale) – Landesstiftung Sachsen-Anhalt
END:VEVENT
END:VCALENDAR
