BEGIN:VCALENDAR
VERSION:2.0
PRODID:-//ZContent.net//ZapCalLib 1.0//EN
CALSCALE:GREGORIAN
METHOD:PUBLISH
BEGIN:VEVENT
SUMMARY:Warum ich hier bin | Online Filmvorführung mit anschließendem Fil
 mgespräch mit den Regisseurinnen Mieko Azuma und Susanne Quester
DTSTART:20200924T170000
DTEND:20200924T200000
UID:2026-04-23-19-51-23-0-@calendar.boell.de
DTSTAMP:20260423T175123
DESCRIPTION:▶ Siehe Veranstaltungsbeschreibung – Heinrich Böll Stiftun
 g Baden-Württemberg
END:VEVENT
END:VCALENDAR
