BEGIN:VCALENDAR
VERSION:2.0
PRODID:-//ZContent.net//ZapCalLib 1.0//EN
CALSCALE:GREGORIAN
METHOD:PUBLISH
BEGIN:VEVENT
SUMMARY:„Wer wir sein wollten“
DTSTART:20201020T190000
DTEND:20201020T203000
UID:2026-04-22-23-00-10-0-@calendar.boell.de
DTSTAMP:20260422T210010
DESCRIPTION:▶ Siehe Veranstaltungsbeschreibung – Weimar – Landesstift
 ung Thüringen
END:VEVENT
END:VCALENDAR
