BEGIN:VCALENDAR
VERSION:2.0
PRODID:-//ZContent.net//ZapCalLib 1.0//EN
CALSCALE:GREGORIAN
METHOD:PUBLISH
BEGIN:VEVENT
SUMMARY:Umgang mit rechten Parolen | Dreiteiliges Online-Seminar
DTSTART:20201026T163000
DTEND:20201026T183000
UID:2026-04-22-22-54-52-0-@calendar.boell.de
DTSTAMP:20260422T205452
DESCRIPTION:▶ Siehe Veranstaltungsbeschreibung – Heinrich Böll Stiftun
 g Baden-Württemberg
END:VEVENT
END:VCALENDAR
