BEGIN:VCALENDAR
VERSION:2.0
PRODID:-//ZContent.net//ZapCalLib 1.0//EN
CALSCALE:GREGORIAN
METHOD:PUBLISH
BEGIN:VEVENT
SUMMARY:Mit „Natural Climate Solutions“ die biologische Vielfalt und da
 s Klima retten?
DTSTART:20201118T110000
DTEND:20201118T123000
UID:2026-04-22-23-08-31-0-@calendar.boell.de
DTSTAMP:20260422T210831
DESCRIPTION:▶ Online-Veranstaltung – Heinrich-Böll-Stiftung - Bundesst
 iftung Berlin
END:VEVENT
END:VCALENDAR
