BEGIN:VCALENDAR
VERSION:2.0
PRODID:-//ZContent.net//ZapCalLib 1.0//EN
CALSCALE:GREGORIAN
METHOD:PUBLISH
BEGIN:VEVENT
SUMMARY:AUSGEBUCHT Weder Fisch noch Fleisch  | Ein Rundgang zu Migration un
 d (Stadt)Entwicklung im bewegten Schanzenviertel
DTSTART:20200925T160000
DTEND:20200925T180000
UID:2026-04-23-04-36-19-0-@calendar.boell.de
DTSTAMP:20260423T023619
DESCRIPTION:▶ Siehe Veranstaltungsbeschreibung – Hamburg – Landesstif
 tung Hamburg
END:VEVENT
END:VCALENDAR
