BEGIN:VCALENDAR
VERSION:2.0
PRODID:-//ZContent.net//ZapCalLib 1.0//EN
CALSCALE:GREGORIAN
METHOD:PUBLISH
BEGIN:VEVENT
SUMMARY:Erzählcafé  „Zur richtigen Zeit am richtigen Ort – Fotografie
 ren und Sammeln in der 'Schwebenden Zeit'“
DTSTART:20201022T170000
DTEND:20201022T190000
UID:2026-04-23-17-20-45-0-@calendar.boell.de
DTSTAMP:20260423T152045
DESCRIPTION:▶ Siehe Veranstaltungsbeschreibung – Schwerin – Landessti
 ftung Mecklenburg-Vorpommern
END:VEVENT
END:VCALENDAR
