BEGIN:VCALENDAR
VERSION:2.0
PRODID:-//ZContent.net//ZapCalLib 1.0//EN
CALSCALE:GREGORIAN
METHOD:PUBLISH
BEGIN:VEVENT
SUMMARY:Gene Drives - Mit gentechnischer Ausrottung Menschen und Natur sch
 ützen? 
DTSTART:20201015T163000
DTEND:20201015T180000
UID:2026-04-22-23-07-41-0-@calendar.boell.de
DTSTAMP:20260422T210741
DESCRIPTION:▶ Online-Veranstaltung – Heinrich-Böll-Stiftung - Bundesst
 iftung Berlin
END:VEVENT
END:VCALENDAR
