BEGIN:VCALENDAR
VERSION:2.0
PRODID:-//ZContent.net//ZapCalLib 1.0//EN
CALSCALE:GREGORIAN
METHOD:PUBLISH
BEGIN:VEVENT
SUMMARY:Ich merk hier nix' vom Klimawandel | Einladung zum KlimaCheck: Disk
 urs lokal und global 
DTSTART:20200907T190000
DTEND:20200907T203000
UID:2026-04-22-23-07-31-0-@calendar.boell.de
DTSTAMP:20260422T210731
DESCRIPTION:▶ Siehe Veranstaltungsbeschreibung – Weimar – 
END:VEVENT
END:VCALENDAR
