BEGIN:VCALENDAR
VERSION:2.0
PRODID:-//ZContent.net//ZapCalLib 1.0//EN
CALSCALE:GREGORIAN
METHOD:PUBLISH
BEGIN:VEVENT
SUMMARY:Die Zukunft der Bioökonomie | Visionen der Bioökonomie - internat
 ionales literaturfestival berlin
DTSTART:20200917T193000
DTEND:20200917T210000
UID:2021-12-02-03-49-21-0-@calendar.boell.de
DTSTAMP:20211202T024921
DESCRIPTION:▶ Siehe Veranstaltungsbeschreibung – Berlin – Externe Ver
 anstaltung
END:VEVENT
END:VCALENDAR
