BEGIN:VCALENDAR
VERSION:2.0
PRODID:-//ZContent.net//ZapCalLib 1.0//EN
CALSCALE:GREGORIAN
METHOD:PUBLISH
BEGIN:VEVENT
SUMMARY:Arbeiten mit dem Plastikatlas | Workshop für Multiplikatorinnen un
 d Multiplikatoren in der politischen Bildung
DTSTART:20201010T100000
DTEND:20201010T140000
UID:2026-04-23-01-54-16-0-@calendar.boell.de
DTSTAMP:20260422T235416
DESCRIPTION:▶ Siehe Veranstaltungsbeschreibung – Heinrich-Böll-Stiftun
 g - Bundesstiftung Berlin
END:VEVENT
END:VCALENDAR
