BEGIN:VCALENDAR
VERSION:2.0
PRODID:-//ZContent.net//ZapCalLib 1.0//EN
CALSCALE:GREGORIAN
METHOD:PUBLISH
BEGIN:VEVENT
SUMMARY:Ausstellung „Die schwebende Zeit 1989/90 – Alltag zwischen Absc
 hied und Aufbruch in Westmecklenburg“
DTSTART:20200925T110000
DTEND:20210214T180000
UID:2026-04-23-06-00-25-0-@calendar.boell.de
DTSTAMP:20260423T040025
DESCRIPTION:▶ Siehe Veranstaltungsbeschreibung – Schwerin – Landessti
 ftung Mecklenburg-Vorpommern
END:VEVENT
END:VCALENDAR
