BEGIN:VCALENDAR
VERSION:2.0
PRODID:-//ZContent.net//ZapCalLib 1.0//EN
CALSCALE:GREGORIAN
METHOD:PUBLISH
BEGIN:VEVENT
SUMMARY:Film & Gespräch „Uferfrauen. Lesbisches L(i)eben in der DDR“
DTSTART:20201001T190000
DTEND:20201001T210000
UID:2026-04-22-23-08-22-0-@calendar.boell.de
DTSTAMP:20260422T210822
DESCRIPTION:▶ Siehe Veranstaltungsbeschreibung – Schwerin – Landessti
 ftung Mecklenburg-Vorpommern
END:VEVENT
END:VCALENDAR
