BEGIN:VCALENDAR
VERSION:2.0
PRODID:-//ZContent.net//ZapCalLib 1.0//EN
CALSCALE:GREGORIAN
METHOD:PUBLISH
BEGIN:VEVENT
SUMMARY:Stimmen aus Belarus | Einblicke in eine Gesellschaft im Umbruch
DTSTART:20200903T190000
DTEND:20200903T203000
UID:2026-04-24-00-35-55-0-@calendar.boell.de
DTSTAMP:20260423T223555
DESCRIPTION:▶ Online-Veranstaltung – Berlin – Heinrich-Böll-Stiftung
  - Bundesstiftung Berlin
END:VEVENT
END:VCALENDAR
