BEGIN:VCALENDAR
VERSION:2.0
PRODID:-//ZContent.net//ZapCalLib 1.0//EN
CALSCALE:GREGORIAN
METHOD:PUBLISH
BEGIN:VEVENT
SUMMARY:Landgrabbing: Land als knappe Ressource | Visionen der Bioökonomie
  - internationales literaturfestival berlin
DTSTART:20200913T200000
DTEND:20200913T213000
UID:2021-12-02-03-49-25-0-@calendar.boell.de
DTSTAMP:20211202T024925
DESCRIPTION:▶ Siehe Veranstaltungsbeschreibung – Berlin – Externe Ver
 anstaltung
END:VEVENT
END:VCALENDAR
