BEGIN:VCALENDAR
VERSION:2.0
PRODID:-//ZContent.net//ZapCalLib 1.0//EN
CALSCALE:GREGORIAN
METHOD:PUBLISH
BEGIN:VEVENT
SUMMARY:Welche Rechte hat die Natur?   | Visionen der Bioökonomie - intern
 ationales literaturfestival berlin
DTSTART:20200912T160000
DTEND:20200912T173000
UID:2021-12-02-03-49-19-0-@calendar.boell.de
DTSTAMP:20211202T024919
DESCRIPTION:▶ Siehe Veranstaltungsbeschreibung – Berlin – Externe Ver
 anstaltung
END:VEVENT
END:VCALENDAR
