BEGIN:VCALENDAR
VERSION:2.0
PRODID:-//ZContent.net//ZapCalLib 1.0//EN
CALSCALE:GREGORIAN
METHOD:PUBLISH
BEGIN:VEVENT
SUMMARY:Einfallstor für Fracking-Gas oder Beitrag zur Energiewende: Brauch
 t Deutschland ein LNG-Terminal?  | 
DTSTART:20200923T163000
DTEND:20200923T180000
UID:2021-12-02-03-20-39-0-@calendar.boell.de
DTSTAMP:20211202T022039
DESCRIPTION:▶ Siehe Veranstaltungsbeschreibung – Heinrich-Böll-Stiftun
 g - Bundesstiftung Berlin
END:VEVENT
END:VCALENDAR
