BEGIN:VCALENDAR
VERSION:2.0
PRODID:-//ZContent.net//ZapCalLib 1.0//EN
CALSCALE:GREGORIAN
METHOD:PUBLISH
BEGIN:VEVENT
SUMMARY:Online-Weiterbildung: Agile Methoden für den Arbeitsalltag (Wartel
 iste)
DTSTART:20201006T153000
DTEND:20201006T173000
UID:2026-04-23-05-59-56-0-@calendar.boell.de
DTSTAMP:20260423T035956
DESCRIPTION:▶ Online-Veranstaltung – GreenCampus
END:VEVENT
BEGIN:VEVENT
SUMMARY:Online-Weiterbildung: Agile Methoden für den Arbeitsalltag (Wartel
 iste)
DTSTART:20201013T153000
DTEND:20201013T173000
UID:2026-04-23-03-59-56-1-@calendar.boell.de
DTSTAMP:20260423T035956
DESCRIPTION:▶ Online-Veranstaltung – GreenCampus
END:VEVENT
BEGIN:VEVENT
SUMMARY:Online-Weiterbildung: Agile Methoden für den Arbeitsalltag (Wartel
 iste)
DTSTART:20201020T153000
DTEND:20201020T173000
UID:2026-04-23-03-59-56-2-@calendar.boell.de
DTSTAMP:20260423T035956
DESCRIPTION:▶ Online-Veranstaltung – GreenCampus
END:VEVENT
BEGIN:VEVENT
SUMMARY:Online-Weiterbildung: Agile Methoden für den Arbeitsalltag (Wartel
 iste)
DTSTART:20201027T153000
DTEND:20201027T173000
UID:2026-04-23-03-59-56-3-@calendar.boell.de
DTSTAMP:20260423T035956
DESCRIPTION:▶ Online-Veranstaltung – GreenCampus
END:VEVENT
END:VCALENDAR
