BEGIN:VCALENDAR
VERSION:2.0
PRODID:-//ZContent.net//ZapCalLib 1.0//EN
CALSCALE:GREGORIAN
METHOD:PUBLISH
BEGIN:VEVENT
SUMMARY:Neukölln: Engagement gegen Rechts und Konzepte für soziales Wohne
 n | Damals und heute am Beispiel der Hufeisensiedlung in Britz
DTSTART:20200920T110000
DTEND:20200920T131500
UID:2026-04-23-01-53-51-0-@calendar.boell.de
DTSTAMP:20260422T235351
DESCRIPTION:▶ Siehe Veranstaltungsbeschreibung – Landesstiftung Berlin 
 (Bildungswerk)
END:VEVENT
END:VCALENDAR
