BEGIN:VCALENDAR
VERSION:2.0
PRODID:-//ZContent.net//ZapCalLib 1.0//EN
CALSCALE:GREGORIAN
METHOD:PUBLISH
BEGIN:VEVENT
SUMMARY:Demokratische Perspektiven für die „letzte Diktatur“ in Europa
 ? Aktuelle Debatte zu den Demonstrationen in Belarus
DTSTART:20200819T190000
DTEND:20200819T200000
UID:2026-04-23-05-59-44-0-@calendar.boell.de
DTSTAMP:20260423T035944
DESCRIPTION:▶ Siehe Veranstaltungsbeschreibung – Landesstiftung Schlesw
 ig-Holstein
END:VEVENT
END:VCALENDAR
