BEGIN:VCALENDAR
VERSION:2.0
PRODID:-//ZContent.net//ZapCalLib 1.0//EN
CALSCALE:GREGORIAN
METHOD:PUBLISH
BEGIN:VEVENT
SUMMARY:Von Mudder Cordes zu Tante Ümmü: | Über den mutigen Umgang mit A
 ltersarmut und öffentlichem Raum
DTSTART:20200918T190000
DTEND:20200918T210000
UID:2026-04-23-00-48-25-0-@calendar.boell.de
DTSTAMP:20260422T224825
DESCRIPTION:▶ Siehe Veranstaltungsbeschreibung – Bremen – Landesstift
 ung Bremen
END:VEVENT
END:VCALENDAR
