BEGIN:VCALENDAR
VERSION:2.0
PRODID:-//ZContent.net//ZapCalLib 1.0//EN
CALSCALE:GREGORIAN
METHOD:PUBLISH
BEGIN:VEVENT
SUMMARY:Virale Verkehrsplanung:  | Was kann Brüssel (u.v.a.), was Bremen n
 icht kann? 
DTSTART:20200917T193000
DTEND:20200917T213000
UID:2026-04-23-02-30-34-0-@calendar.boell.de
DTSTAMP:20260423T003034
DESCRIPTION:▶ Siehe Veranstaltungsbeschreibung – Bremen – Landesstift
 ung Bremen
END:VEVENT
END:VCALENDAR
