BEGIN:VCALENDAR
VERSION:2.0
PRODID:-//ZContent.net//ZapCalLib 1.0//EN
CALSCALE:GREGORIAN
METHOD:PUBLISH
BEGIN:VEVENT
SUMMARY:Das Mittelmeer und wir | Sieben Abende, sieben Gespräche und die M
 ittelmeer-Monologe 
DTSTART:20200901T190000
DTEND:20200901T213000
UID:2021-12-02-04-22-54-0-@calendar.boell.de
DTSTAMP:20211202T032254
DESCRIPTION:▶ Siehe Veranstaltungsbeschreibung – Berlin – Externe Ver
 anstaltung
END:VEVENT
END:VCALENDAR
