BEGIN:VCALENDAR
VERSION:2.0
PRODID:-//ZContent.net//ZapCalLib 1.0//EN
CALSCALE:GREGORIAN
METHOD:PUBLISH
BEGIN:VEVENT
SUMMARY:„Man kommt nicht als Frau zur Welt, man wird es.“ – Lesekreis
  | Lesekreis zu "Das andere Geschlecht" von Simone de Beauvoir
DTSTART:20201028T190000
DTEND:20201202T203000
UID:2026-04-26-04-41-07-0-@calendar.boell.de
DTSTAMP:20260426T024107
DESCRIPTION:▶ Siehe Veranstaltungsbeschreibung – Landesstiftung Berlin 
 (Bildungswerk)
END:VEVENT
END:VCALENDAR
