BEGIN:VCALENDAR
VERSION:2.0
PRODID:-//ZContent.net//ZapCalLib 1.0//EN
CALSCALE:GREGORIAN
METHOD:PUBLISH
BEGIN:VEVENT
SUMMARY:Mitmischen erwünscht!  | Podcast 
DTSTART:20200728T100000
DTEND:20200831T100000
UID:2021-12-02-04-15-08-0-@calendar.boell.de
DTSTAMP:20211202T031508
DESCRIPTION:Landesstiftung Thüringen
END:VEVENT
END:VCALENDAR
