BEGIN:VCALENDAR
VERSION:2.0
PRODID:-//ZContent.net//ZapCalLib 1.0//EN
CALSCALE:GREGORIAN
METHOD:PUBLISH
BEGIN:VEVENT
SUMMARY:Widerstand erforderlich? | Identitäts- und Geschlechterkonflikte i
 m Horizont von Rechtspopulismus und christlichem Fundamentalismus in Europ
 a heute
DTSTART:20201014T120000
DTEND:20201016T123000
UID:2021-12-02-04-35-26-0-@calendar.boell.de
DTSTAMP:20211202T033526
DESCRIPTION:▶ Siehe Veranstaltungsbeschreibung – Graz – Externe Veran
 staltung
END:VEVENT
END:VCALENDAR
