BEGIN:VCALENDAR
VERSION:2.0
PRODID:-//ZContent.net//ZapCalLib 1.0//EN
CALSCALE:GREGORIAN
METHOD:PUBLISH
BEGIN:VEVENT
SUMMARY:Online-Weiterbildung: Training für neue Führungskräfte (Wartelis
 te)
DTSTART:20200930T183000
DTEND:20200930T200000
UID:2026-04-24-05-36-45-0-@calendar.boell.de
DTSTAMP:20260424T033645
DESCRIPTION:▶ Online-Veranstaltung – GreenCampus
END:VEVENT
BEGIN:VEVENT
SUMMARY:Online-Weiterbildung: Training für neue Führungskräfte (Wartelis
 te)
DTSTART:20201007T183000
DTEND:20201007T200000
UID:2026-04-24-03-36-45-1-@calendar.boell.de
DTSTAMP:20260424T033645
DESCRIPTION:▶ Online-Veranstaltung – GreenCampus
END:VEVENT
BEGIN:VEVENT
SUMMARY:Online-Weiterbildung: Training für neue Führungskräfte (Wartelis
 te)
DTSTART:20201014T183000
DTEND:20201014T200000
UID:2026-04-24-03-36-45-2-@calendar.boell.de
DTSTAMP:20260424T033645
DESCRIPTION:▶ Online-Veranstaltung – GreenCampus
END:VEVENT
BEGIN:VEVENT
SUMMARY:Online-Weiterbildung: Training für neue Führungskräfte (Wartelis
 te)
DTSTART:20201021T183000
DTEND:20201021T200000
UID:2026-04-24-03-36-45-3-@calendar.boell.de
DTSTAMP:20260424T033645
DESCRIPTION:▶ Online-Veranstaltung – GreenCampus
END:VEVENT
END:VCALENDAR
