BEGIN:VCALENDAR
VERSION:2.0
PRODID:-//ZContent.net//ZapCalLib 1.0//EN
CALSCALE:GREGORIAN
METHOD:PUBLISH
BEGIN:VEVENT
SUMMARY:"collect"  | Fotoserie des Fotografen Michael Jalaru Torres 
DTSTART:20200731T190000
DTEND:20200828T000000
UID:2026-04-22-16-50-40-0-@calendar.boell.de
DTSTAMP:20260422T145040
DESCRIPTION:▶ Siehe Veranstaltungsbeschreibung – Dresden – Landesstif
 tung Sachsen (Weiterdenken)
END:VEVENT
END:VCALENDAR
