BEGIN:VCALENDAR
VERSION:2.0
PRODID:-//ZContent.net//ZapCalLib 1.0//EN
CALSCALE:GREGORIAN
METHOD:PUBLISH
BEGIN:VEVENT
SUMMARY:Gegenwärtige Kriegsökonomien zwischen Konflikt und Kapitalismus |
  Economies at War III - Ökonomie des Krieges in Syrien-Krieg als Reform
DTSTART:20200813T190000
DTEND:20200813T210000
UID:2026-04-23-08-39-05-0-@calendar.boell.de
DTSTAMP:20260423T063905
DESCRIPTION:▶ Siehe Veranstaltungsbeschreibung – Landesstiftung Berlin 
 (Bildungswerk)
END:VEVENT
END:VCALENDAR
