BEGIN:VCALENDAR
VERSION:2.0
PRODID:-//ZContent.net//ZapCalLib 1.0//EN
CALSCALE:GREGORIAN
METHOD:PUBLISH
BEGIN:VEVENT
SUMMARY:Israels Parteienlandschaft
DTSTART:20200910T200000
DTEND:20200910T213000
UID:2026-04-22-23-08-40-0-@calendar.boell.de
DTSTAMP:20260422T210840
DESCRIPTION:▶ Siehe Veranstaltungsbeschreibung – München – Petra-Kel
 ly-Stiftung
END:VEVENT
END:VCALENDAR
