BEGIN:VCALENDAR
VERSION:2.0
PRODID:-//ZContent.net//ZapCalLib 1.0//EN
CALSCALE:GREGORIAN
METHOD:PUBLISH
BEGIN:VEVENT
SUMMARY:Über reproduktive Gerechtigkeit sprechen | Begriffe, Allianzen, Ko
 ntroversen
DTSTART:20200904T130000
DTEND:20200904T180000
UID:2026-04-25-03-31-50-0-@calendar.boell.de
DTSTAMP:20260425T013150
DESCRIPTION:Heinrich-Böll-Stiftung - Bundesstiftung Berlin – Gunda-Werne
 r-Institut für Feminismus und Geschlechterdemokratie
END:VEVENT
END:VCALENDAR
