BEGIN:VCALENDAR
VERSION:2.0
PRODID:-//ZContent.net//ZapCalLib 1.0//EN
CALSCALE:GREGORIAN
METHOD:PUBLISH
BEGIN:VEVENT
SUMMARY:Kirschblüten und rote Bohnen | Film, Speisen und Gespräch
DTSTART:20200826T200000
DTEND:20200826T223000
UID:2026-04-22-23-07-47-0-@calendar.boell.de
DTSTAMP:20260422T210747
DESCRIPTION:▶ Siehe Veranstaltungsbeschreibung – Leipzig – Landesstif
 tung Sachsen (Weiterdenken)
END:VEVENT
END:VCALENDAR
