BEGIN:VCALENDAR
VERSION:2.0
PRODID:-//ZContent.net//ZapCalLib 1.0//EN
CALSCALE:GREGORIAN
METHOD:PUBLISH
BEGIN:VEVENT
SUMMARY:Der Koch | Film, Speisen und Gespräch
DTSTART:20200823T200000
DTEND:20200823T223000
UID:2026-04-22-15-13-34-0-@calendar.boell.de
DTSTAMP:20260422T131334
DESCRIPTION:▶ Siehe Veranstaltungsbeschreibung – Leipzig – Landesstif
 tung Sachsen (Weiterdenken)
END:VEVENT
END:VCALENDAR
