BEGIN:VCALENDAR
VERSION:2.0
PRODID:-//ZContent.net//ZapCalLib 1.0//EN
CALSCALE:GREGORIAN
METHOD:PUBLISH
BEGIN:VEVENT
SUMMARY:Zimt und Koriander  | Film, Speisen und Gespräch
DTSTART:20200822T190000
DTEND:20200822T213000
UID:2026-04-22-12-42-06-0-@calendar.boell.de
DTSTAMP:20260422T104206
DESCRIPTION:▶ Siehe Veranstaltungsbeschreibung – Leipzig – Landesstif
 tung Sachsen (Weiterdenken)
END:VEVENT
END:VCALENDAR
