BEGIN:VCALENDAR
VERSION:2.0
PRODID:-//ZContent.net//ZapCalLib 1.0//EN
CALSCALE:GREGORIAN
METHOD:PUBLISH
BEGIN:VEVENT
SUMMARY:Sündenböcke und Verschwörungstheorien: Spaltet Corona die Gesell
 schaft? | Reihe: Krisengespräche
DTSTART:20200728T190000
DTEND:20200728T203000
UID:2026-04-22-22-13-08-0-@calendar.boell.de
DTSTAMP:20260422T201308
DESCRIPTION:▶ Siehe Veranstaltungsbeschreibung – Landesstiftung Hessen
END:VEVENT
END:VCALENDAR
