BEGIN:VCALENDAR
VERSION:2.0
PRODID:-//ZContent.net//ZapCalLib 1.0//EN
CALSCALE:GREGORIAN
METHOD:PUBLISH
BEGIN:VEVENT
SUMMARY:Online-Seminar: Strategisches Netzwerken für Frauen | GreenCampus 
 Online Seminar 
DTSTART:20200912T100000
DTEND:20200912T160000
UID:2026-04-23-04-35-11-0-@calendar.boell.de
DTSTAMP:20260423T023511
DESCRIPTION:▶ Online-Veranstaltung – Landesstiftung Thüringen
END:VEVENT
END:VCALENDAR
